BEGIN:VCALENDAR
VERSION:2.0
PRODID:-//Sabre//Sabre VObject 2.0//EN
BEGIN:VEVENT
UID:postcalendar-30
SUMMARY:Gedenken an Rauni Kilde
DESCRIPTION:In Erinnerung an Rauni-Leena Luukanen Kilde, die am Sonntag, 8.
  Februar 2015 in ihrer finnischen Heimat verstorben ist. Nach Auskunft von
  Rechtsanwalt Henning Witte haben äußere Ereignisse ihren Tod herbeigef
 ührt. Rauni Kilde stand im Dezember 2014 kurz davor, ein Buch mit Enthül
 lungen über internationale Mind Control-Anwendung zu veröffentlichen. Na
 ch Wissenstand der mcn-Redaktion soll das Buch von einem polnischen Verlag
  herausgegeben worden und dort erhältlich sein. Rauni Kilde ist nicht das
  einzige Opfer verdeckter Übergriffe. Ihr Todestag soll auch an andere Op
 fer erinnern, die durch bewusstseinsverändernde Technologien ihr Leben ge
 lassen haben. .. siehe - Vermisste und Verstorbene 
DTSTART;VALUE=DATE:20150208
DTEND;VALUE=DATE:20150208
LOCATION:.. überall weltweit.
RRULE:FREQ=YEARLY;INTERVAL=1;UNTIL=20500227T230000Z
END:VEVENT
END:VCALENDAR
